BEGIN:VCALENDAR
VERSION:2.0
PRODID:-//Leitmotifs Galore - ECPv6.15.20//NONSGML v1.0//EN
CALSCALE:GREGORIAN
METHOD:PUBLISH
X-WR-CALNAME:Leitmotifs Galore
X-ORIGINAL-URL:https://leitmotifsgalore.nl
X-WR-CALDESC:Evenementen voor Leitmotifs Galore
REFRESH-INTERVAL;VALUE=DURATION:PT1H
X-Robots-Tag:noindex
X-PUBLISHED-TTL:PT1H
BEGIN:VTIMEZONE
TZID:Europe/Amsterdam
BEGIN:DAYLIGHT
TZOFFSETFROM:+0100
TZOFFSETTO:+0200
TZNAME:CEST
DTSTART:20230326T010000
END:DAYLIGHT
BEGIN:STANDARD
TZOFFSETFROM:+0200
TZOFFSETTO:+0100
TZNAME:CET
DTSTART:20231029T010000
END:STANDARD
BEGIN:DAYLIGHT
TZOFFSETFROM:+0100
TZOFFSETTO:+0200
TZNAME:CEST
DTSTART:20240331T010000
END:DAYLIGHT
BEGIN:STANDARD
TZOFFSETFROM:+0200
TZOFFSETTO:+0100
TZNAME:CET
DTSTART:20241027T010000
END:STANDARD
BEGIN:DAYLIGHT
TZOFFSETFROM:+0100
TZOFFSETTO:+0200
TZNAME:CEST
DTSTART:20250330T010000
END:DAYLIGHT
BEGIN:STANDARD
TZOFFSETFROM:+0200
TZOFFSETTO:+0100
TZNAME:CET
DTSTART:20251026T010000
END:STANDARD
END:VTIMEZONE
BEGIN:VEVENT
DTSTART;TZID=Europe/Amsterdam:20241005T000000
DTEND;TZID=Europe/Amsterdam:20241005T235959
DTSTAMP:20260421T203453
CREATED:20250517T115946Z
LAST-MODIFIED:20250619T103813Z
UID:245-1728086400-1728172799@leitmotifsgalore.nl
SUMMARY:Optreden Le Canadh Koopkorenfestival Enkhuizen
DESCRIPTION:Le Canadh treedt op tijdens het Koopkorenfestival. Een super leuk festival met vele koren die zowel binnen op locatie optreden als buiten op straat. Voor elk wat wils. \n13:00u: Le Canadh\, binnen\, De Eendracht in Van Bleijswijk\n15:00u: Le Canadh\, buiten\,  Westerstraat Centraal \nkoopkorenfestival-2024-programma-A5-digitaal-2 \n 
URL:https://leitmotifsgalore.nl/evenement/optreden-le-canadh-koopkorenfestival-enkhuizen
LOCATION:Enkhuizen\, Netherlands
CATEGORIES:Koor
END:VEVENT
END:VCALENDAR