BEGIN:VCALENDAR
VERSION:2.0
PRODID:-//Leitmotifs Galore - ECPv6.15.20//NONSGML v1.0//EN
CALSCALE:GREGORIAN
METHOD:PUBLISH
X-WR-CALNAME:Leitmotifs Galore
X-ORIGINAL-URL:https://leitmotifsgalore.nl
X-WR-CALDESC:Evenementen voor Leitmotifs Galore
REFRESH-INTERVAL;VALUE=DURATION:PT1H
X-Robots-Tag:noindex
X-PUBLISHED-TTL:PT1H
BEGIN:VTIMEZONE
TZID:Europe/Amsterdam
BEGIN:DAYLIGHT
TZOFFSETFROM:+0100
TZOFFSETTO:+0200
TZNAME:CEST
DTSTART:20230326T010000
END:DAYLIGHT
BEGIN:STANDARD
TZOFFSETFROM:+0200
TZOFFSETTO:+0100
TZNAME:CET
DTSTART:20231029T010000
END:STANDARD
BEGIN:DAYLIGHT
TZOFFSETFROM:+0100
TZOFFSETTO:+0200
TZNAME:CEST
DTSTART:20240331T010000
END:DAYLIGHT
BEGIN:STANDARD
TZOFFSETFROM:+0200
TZOFFSETTO:+0100
TZNAME:CET
DTSTART:20241027T010000
END:STANDARD
BEGIN:DAYLIGHT
TZOFFSETFROM:+0100
TZOFFSETTO:+0200
TZNAME:CEST
DTSTART:20250330T010000
END:DAYLIGHT
BEGIN:STANDARD
TZOFFSETFROM:+0200
TZOFFSETTO:+0100
TZNAME:CET
DTSTART:20251026T010000
END:STANDARD
END:VTIMEZONE
BEGIN:VEVENT
DTSTART;TZID=Europe/Amsterdam:20241214T110000
DTEND;TZID=Europe/Amsterdam:20241214T120000
DTSTAMP:20260421T120116
CREATED:20250517T115000Z
LAST-MODIFIED:20250619T103729Z
UID:243-1734174000-1734177600@leitmotifsgalore.nl
SUMMARY:Uitvoering Cursus Deel I
DESCRIPTION:De cursisten hebben 5 traditionele liedjes ingestudeerd en brengen deze ten gehore. Na afloop is er koffie. Kom gezellig luisteren.
URL:https://leitmotifsgalore.nl/evenement/uitvoering-cursus-deel-i
LOCATION:Buurthuis De Ezel\, Fabritiuspark 20\, Heerhugowaard\, Netherlands
CATEGORIES:Cursus
END:VEVENT
END:VCALENDAR